BEGIN:VCALENDAR
VERSION:2.0
PRODID:-//Junior Chef Stars - ECPv6.15.17//NONSGML v1.0//EN
CALSCALE:GREGORIAN
METHOD:PUBLISH
X-WR-CALNAME:Junior Chef Stars
X-ORIGINAL-URL:https://www.juniorchefstars.com
X-WR-CALDESC:Events for Junior Chef Stars
REFRESH-INTERVAL;VALUE=DURATION:PT1H
X-Robots-Tag:noindex
X-PUBLISHED-TTL:PT1H
BEGIN:VTIMEZONE
TZID:America/Los_Angeles
BEGIN:DAYLIGHT
TZOFFSETFROM:-0800
TZOFFSETTO:-0700
TZNAME:PDT
DTSTART:20250309T100000
END:DAYLIGHT
BEGIN:STANDARD
TZOFFSETFROM:-0700
TZOFFSETTO:-0800
TZNAME:PST
DTSTART:20251102T090000
END:STANDARD
BEGIN:DAYLIGHT
TZOFFSETFROM:-0800
TZOFFSETTO:-0700
TZNAME:PDT
DTSTART:20260308T100000
END:DAYLIGHT
BEGIN:STANDARD
TZOFFSETFROM:-0700
TZOFFSETTO:-0800
TZNAME:PST
DTSTART:20261101T090000
END:STANDARD
BEGIN:DAYLIGHT
TZOFFSETFROM:-0800
TZOFFSETTO:-0700
TZNAME:PDT
DTSTART:20270314T100000
END:DAYLIGHT
BEGIN:STANDARD
TZOFFSETFROM:-0700
TZOFFSETTO:-0800
TZNAME:PST
DTSTART:20271107T090000
END:STANDARD
END:VTIMEZONE
BEGIN:VEVENT
DTSTART;TZID=America/Los_Angeles:20260608T090000
DTEND;TZID=America/Los_Angeles:20260612T160000
DTSTAMP:20260425T125104
CREATED:20260124T002000Z
LAST-MODIFIED:20260124T002000Z
UID:10002039-1780909200-1781280000@www.juniorchefstars.com
SUMMARY:Cupcake Masters & Farm to Fork
DESCRIPTION:Cupcake Masters – AM \nWhat’s sweeter than a bounty of delicious and beautiful cupcakes hand-crafted by your own Junior Master Chef? Your child\, with the help of our professional cake instructors\, will learn the ways of a true cupcake artist! Students will mix\, bake\, design\, and complete delectable cupcakes that will showcase their creativity and taste absolutely divine! \nFarm to Fork – PM \nWelcome to Gourmet Garden\, where junior chefs dig into the delicious world of farm-to-table cooking! This camp offers a hands-on experience that connects the journey of fresh ingredients from the garden to the table. Discover the joy of cooking with farm-fresh ingredients. Each day\, kids will prepare and cook a variety of dishes using vegetables\, fruits\, and herbs sourced from nearby farms. Join us at Gourmet Garden for the perfect blend of learning and fun\, where kids become chefs while creating delicious\, healthy meals. \nRegister Here
URL:https://www.juniorchefstars.com/event/cupcake-masters-farm-to-fork-6/
LOCATION:Community Activities Building\, 1400 Roosevelt Avenue\, Redwood City\, CA\, 94061\, United States
CATEGORIES:Camp
GEO:37.4708362;-122.2370708
X-APPLE-STRUCTURED-LOCATION;VALUE=URI;X-ADDRESS=Community Activities Building 1400 Roosevelt Avenue Redwood City CA 94061 United States;X-APPLE-RADIUS=500;X-TITLE=1400 Roosevelt Avenue:geo:-122.2370708,37.4708362
END:VEVENT
BEGIN:VEVENT
DTSTART;TZID=America/Los_Angeles:20260622T090000
DTEND;TZID=America/Los_Angeles:20260626T160000
DTSTAMP:20260425T125104
CREATED:20260124T002218Z
LAST-MODIFIED:20260124T002218Z
UID:10002040-1782118800-1782489600@www.juniorchefstars.com
SUMMARY:Seasons of Sweets & Wok n' Roll
DESCRIPTION:Seasons of Sweets – AM \nGet ready to whisk your way through the year!. From cozy fall treats to sunny summer delights to year-round favorites\, your junior chef will learn all the bold flavors the seasons have to offer. With each season comes a fresh batch of creativity\, color\, and of course – delicious treats. It’s the perfect recipe for a week full of baking\, laughter\, and sugar-dusted fun! \nWok n’ Roll – PM \nWelcome to Wok and Roll\, where junior chefs embark on an exciting journey through the vibrant world of Asian cuisine! This camp is all about hands-on fun\, tasty creations\, and discovering the rich flavors of Asia. Explore the diverse culinary traditions of Asia\, from Chinese stir-fries and Japanese sushi to Thai noodles. Each day features a different country and its signature dishes. It’s the perfect way for kids to explore new flavors\, make new friends\, and roll into a summer of culinary adventure! \nRegister Here
URL:https://www.juniorchefstars.com/event/seasons-of-sweets-wok-n-roll-3/
LOCATION:Community Activities Building\, 1400 Roosevelt Avenue\, Redwood City\, CA\, 94061\, United States
CATEGORIES:Camp
GEO:37.4708362;-122.2370708
X-APPLE-STRUCTURED-LOCATION;VALUE=URI;X-ADDRESS=Community Activities Building 1400 Roosevelt Avenue Redwood City CA 94061 United States;X-APPLE-RADIUS=500;X-TITLE=1400 Roosevelt Avenue:geo:-122.2370708,37.4708362
END:VEVENT
BEGIN:VEVENT
DTSTART;TZID=America/Los_Angeles:20260713T090000
DTEND;TZID=America/Los_Angeles:20260717T160000
DTSTAMP:20260425T125104
CREATED:20260124T002400Z
LAST-MODIFIED:20260124T002400Z
UID:10002041-1783933200-1784304000@www.juniorchefstars.com
SUMMARY:Tropical Treats & Island Eats
DESCRIPTION:Tropical Treats – AM \nTake a culinary trip to the tropics! In Tropical Treats\, campers will explore bold\, fruity\, and feel-good flavors through a variety of fun and engaging recipes. From mixing and measuring to baking and decorating\, kids will practice essential kitchen skills while creating tasty treats inspired by sunny destinations. With a focus on flavor\, fun\, and a touch of paradise\, this camp serves up a delicious escape — no suitcase required! \nIsland Eats – PM \nIsland Eats is serving up a flavorful adventure across island kitchens around the globe! From volcanic coasts to cool ocean shores\, campers will explore a variety of regional dishes inspired by unique island cultures\, ingredients\, and traditions. From savory bites to sweet surprises\, we’re mixing up meals that’ll make you say aloha to seconds! With a pinch of adventure\, a dash of creativity\, and plenty of kitchen fun\, Island Eats is a recipe for tasty memories. Just bring your love for island vibes! \nRegister Here
URL:https://www.juniorchefstars.com/event/tropical-treats-island-eats-6/
LOCATION:Community Activities Building\, 1400 Roosevelt Avenue\, Redwood City\, CA\, 94061\, United States
CATEGORIES:Camp
GEO:37.4708362;-122.2370708
X-APPLE-STRUCTURED-LOCATION;VALUE=URI;X-ADDRESS=Community Activities Building 1400 Roosevelt Avenue Redwood City CA 94061 United States;X-APPLE-RADIUS=500;X-TITLE=1400 Roosevelt Avenue:geo:-122.2370708,37.4708362
END:VEVENT
BEGIN:VEVENT
DTSTART;TZID=America/Los_Angeles:20260727T090000
DTEND;TZID=America/Los_Angeles:20260731T160000
DTSTAMP:20260425T125104
CREATED:20260124T002526Z
LAST-MODIFIED:20260124T002526Z
UID:10002042-1785142800-1785513600@www.juniorchefstars.com
SUMMARY:Let Them Eat Cake & Culinary Passport
DESCRIPTION:Let Them Eat Cake – AM \nDo you love to bake your cake and eat it\, too? This camp will cover basics such as how to properly prepare cake pans\, the perfect cake recipe\, and carving multiple layers. This course will then transition into a more advanced cake-decorating lesson. From crumb coats to fondant\, your junior chef will create their very own delicious cake creations. \nCulinary Passport – PM \nCalling all young culinary explorers\, we’ve prepared your passport to a world of taste sensations. Join us as we take your taste buds on a thrilling tour around the globe\, savoring flavorful favorites from each country we visit. This camp is not just about cooking; it’s about gaining important kitchen skills while fostering an appreciation for the diverse culinary landscapes across the planet. Our camp features a delightful blend of both savory and sweet recipes\, ensuring that young chefs not only expand their palates but also enhance their culinary repertoire. Pack up those taste buds and register today to join us on this exciting journey! \nRegister Here
URL:https://www.juniorchefstars.com/event/let-them-eat-cake-culinary-passport-4/
LOCATION:Community Activities Building\, 1400 Roosevelt Avenue\, Redwood City\, CA\, 94061\, United States
CATEGORIES:Camp
GEO:37.4708362;-122.2370708
X-APPLE-STRUCTURED-LOCATION;VALUE=URI;X-ADDRESS=Community Activities Building 1400 Roosevelt Avenue Redwood City CA 94061 United States;X-APPLE-RADIUS=500;X-TITLE=1400 Roosevelt Avenue:geo:-122.2370708,37.4708362
END:VEVENT
BEGIN:VEVENT
DTSTART;TZID=America/Los_Angeles:20260810T090000
DTEND;TZID=America/Los_Angeles:20260814T160000
DTSTAMP:20260425T125104
CREATED:20260124T002657Z
LAST-MODIFIED:20260124T002657Z
UID:10002043-1786352400-1786723200@www.juniorchefstars.com
SUMMARY:Sweet European Escape & Kitchen Chemist
DESCRIPTION:Sweet European Escape – AM \nReady to roll\, whisk\, and rise to the occasion? From buttery bites to golden goodies\, we’ll explore sweet and savory treats that are scone to be your new favorites. Each day\, our young bakers will dough into hands-on recipes from different regions\, learning fun techniques\, flavorful traditions\, and maybe even a few crumby jokes along the way. With help from our culinary instructors\, campers will level up their kitchen confidence and take home skills that are très magnifique! \nKitchen Chemist – PM \nIs your young chef ready to become a food scientist? Come spend a week whipping up delicious experiments in the kitchen! Each recipe will be a fun and tasty hands-on experiment from edible chemical reactions to food heat transformations. Get ready to mix\, stir\, and discover the flavorful side of science! \nRegister Here
URL:https://www.juniorchefstars.com/event/sweet-european-escape-kitchen-chemist-6/
LOCATION:Community Activities Building\, 1400 Roosevelt Avenue\, Redwood City\, CA\, 94061\, United States
CATEGORIES:Camp
GEO:37.4708362;-122.2370708
X-APPLE-STRUCTURED-LOCATION;VALUE=URI;X-ADDRESS=Community Activities Building 1400 Roosevelt Avenue Redwood City CA 94061 United States;X-APPLE-RADIUS=500;X-TITLE=1400 Roosevelt Avenue:geo:-122.2370708,37.4708362
END:VEVENT
END:VCALENDAR