BEGIN:VCALENDAR
VERSION:2.0
PRODID:-//Junior Chef Stars - ECPv6.15.17//NONSGML v1.0//EN
CALSCALE:GREGORIAN
METHOD:PUBLISH
X-ORIGINAL-URL:https://www.juniorchefstars.com
X-WR-CALDESC:Events for Junior Chef Stars
REFRESH-INTERVAL;VALUE=DURATION:PT1H
X-Robots-Tag:noindex
X-PUBLISHED-TTL:PT1H
BEGIN:VTIMEZONE
TZID:America/Los_Angeles
BEGIN:DAYLIGHT
TZOFFSETFROM:-0800
TZOFFSETTO:-0700
TZNAME:PDT
DTSTART:20250309T100000
END:DAYLIGHT
BEGIN:STANDARD
TZOFFSETFROM:-0700
TZOFFSETTO:-0800
TZNAME:PST
DTSTART:20251102T090000
END:STANDARD
BEGIN:DAYLIGHT
TZOFFSETFROM:-0800
TZOFFSETTO:-0700
TZNAME:PDT
DTSTART:20260308T100000
END:DAYLIGHT
BEGIN:STANDARD
TZOFFSETFROM:-0700
TZOFFSETTO:-0800
TZNAME:PST
DTSTART:20261101T090000
END:STANDARD
BEGIN:DAYLIGHT
TZOFFSETFROM:-0800
TZOFFSETTO:-0700
TZNAME:PDT
DTSTART:20270314T100000
END:DAYLIGHT
BEGIN:STANDARD
TZOFFSETFROM:-0700
TZOFFSETTO:-0800
TZNAME:PST
DTSTART:20271107T090000
END:STANDARD
END:VTIMEZONE
BEGIN:VEVENT
DTSTART;TZID=America/Los_Angeles:20260608T090000
DTEND;TZID=America/Los_Angeles:20260612T160000
DTSTAMP:20260425T111016
CREATED:20260123T232413Z
LAST-MODIFIED:20260123T232413Z
UID:10002013-1780909200-1781280000@www.juniorchefstars.com
SUMMARY:Cupcake Masters & Farm to Fork
DESCRIPTION:Cupcake Masters – AM \nWhat’s sweeter than a bounty of delicious and beautiful cupcakes hand-crafted by your own Junior Master Chef? Your child\, with the help of our professional cake instructors\, will learn the ways of a true cupcake artist! Students will mix\, bake\, design\, and complete delectable cupcakes that will showcase their creativity and taste absolutely divine! \nFarm to Fork – PM \nWelcome to Gourmet Garden\, where junior chefs dig into the delicious world of farm-to-table cooking! This camp offers a hands-on experience that connects the journey of fresh ingredients from the garden to the table. Discover the joy of cooking with farm-fresh ingredients. Each day\, kids will prepare and cook a variety of dishes using vegetables\, fruits\, and herbs sourced from nearby farms. Join us at Gourmet Garden for the perfect blend of learning and fun\, where kids become chefs while creating delicious\, healthy meals. \nRegister Here
URL:https://www.juniorchefstars.com/event/cupcake-masters-farm-to-fork-2/
LOCATION:Orchard City Banquet Hall\, 1 Campbell\, Campbell\, CA\, 95008\, United States
CATEGORIES:Camp
GEO:37.2870553;-121.9448698
X-APPLE-STRUCTURED-LOCATION;VALUE=URI;X-ADDRESS=Orchard City Banquet Hall 1 Campbell Campbell CA 95008 United States;X-APPLE-RADIUS=500;X-TITLE=1 Campbell:geo:-121.9448698,37.2870553
END:VEVENT
BEGIN:VEVENT
DTSTART;TZID=America/Los_Angeles:20260622T090000
DTEND;TZID=America/Los_Angeles:20260626T160000
DTSTAMP:20260425T111016
CREATED:20260123T232633Z
LAST-MODIFIED:20260123T232633Z
UID:10002014-1782118800-1782489600@www.juniorchefstars.com
SUMMARY:Colorful Confections & California Cuisine
DESCRIPTION:Colorful Confections – AM \nStep into a world of sugar\, color\, and creativity! Each day\, campers will whip up bright and beautiful confections from zesty yellow lemon bars to vibrant raspberry hand pies. From mixing batter to mastering frosting swirls\, this camp is a sweet adventure in baking and bold hues. Get ready to bake the rainbow\, one wonderful color at a time! \nCalifornia Cuisine – PM \nGet ready to dive into the vibrant\, fresh\, and diverse flavors of California! Explore the culinary treasures of the Golden State\, from farm-to-table freshness to bold coastal flavors. Inspired by California’s rich food culture—where creativity\, health\, and sustainability take center stage—this camp is all about learning to cook with local\, seasonal ingredients and discovering a variety of global influences that make California’s food scene so unique. \nRegister Here
URL:https://www.juniorchefstars.com/event/colorful-confections-california-cuisine-2/
LOCATION:Orchard City Banquet Hall\, 1 Campbell\, Campbell\, CA\, 95008\, United States
CATEGORIES:Camp
GEO:37.2870553;-121.9448698
X-APPLE-STRUCTURED-LOCATION;VALUE=URI;X-ADDRESS=Orchard City Banquet Hall 1 Campbell Campbell CA 95008 United States;X-APPLE-RADIUS=500;X-TITLE=1 Campbell:geo:-121.9448698,37.2870553
END:VEVENT
BEGIN:VEVENT
DTSTART;TZID=America/Los_Angeles:20260713T090000
DTEND;TZID=America/Los_Angeles:20260717T160000
DTSTAMP:20260425T111016
CREATED:20260123T232807Z
LAST-MODIFIED:20260123T232807Z
UID:10002015-1783933200-1784304000@www.juniorchefstars.com
SUMMARY:Let Them Eat Cake & Culinary Passport
DESCRIPTION:Let Them Eat Cake – AM \nDo you love to bake your cake and eat it\, too? This camp will cover basics such as how to properly prepare cake pans\, the perfect cake recipe\, and carving multiple layers. This course will then transition into a more advanced cake-decorating lesson. From crumb coats to fondant\, your junior chef will create their very own delicious cake creations. \nCulinary Passport – PM \nCalling all young culinary explorers\, we’ve prepared your passport to a world of taste sensations. Join us as we take your taste buds on a thrilling tour around the globe\, savoring flavorful favorites from each country we visit. This camp is not just about cooking; it’s about gaining important kitchen skills while fostering an appreciation for the diverse culinary landscapes across the planet. Our camp features a delightful blend of both savory and sweet recipes\, ensuring that young chefs not only expand their palates but also enhance their culinary repertoire. Pack up those taste buds and register today to join us on this exciting journey! \nRegister Here
URL:https://www.juniorchefstars.com/event/let-them-eat-cake-culinary-passport-2/
LOCATION:Orchard City Banquet Hall\, 1 Campbell\, Campbell\, CA\, 95008\, United States
CATEGORIES:Camp
GEO:37.2870553;-121.9448698
X-APPLE-STRUCTURED-LOCATION;VALUE=URI;X-ADDRESS=Orchard City Banquet Hall 1 Campbell Campbell CA 95008 United States;X-APPLE-RADIUS=500;X-TITLE=1 Campbell:geo:-121.9448698,37.2870553
END:VEVENT
BEGIN:VEVENT
DTSTART;TZID=America/Los_Angeles:20260720T090000
DTEND;TZID=America/Los_Angeles:20260724T160000
DTSTAMP:20260425T111016
CREATED:20260123T232935Z
LAST-MODIFIED:20260123T232935Z
UID:10002016-1784538000-1784908800@www.juniorchefstars.com
SUMMARY:Sweet European Escape & Kitchen Chemist
DESCRIPTION:Sweet European Escape – AM \nReady to roll\, whisk\, and rise to the occasion? From buttery bites to golden goodies\, we’ll explore sweet and savory treats that are scone to be your new favorites. Each day\, our young bakers will dough into hands-on recipes from different regions\, learning fun techniques\, flavorful traditions\, and maybe even a few crumby jokes along the way. With help from our culinary instructors\, campers will level up their kitchen confidence and take home skills that are très magnifique! \nKitchen Chemist – PM \nIs your young chef ready to become a food scientist? Come spend a week whipping up delicious experiments in the kitchen! Each recipe will be a fun and tasty hands-on experiment from edible chemical reactions to food heat transformations. Get ready to mix\, stir\, and discover the flavorful side of science! \nRegister Here
URL:https://www.juniorchefstars.com/event/sweet-european-escape-kitchen-chemist/
LOCATION:Orchard City Banquet Hall\, 1 Campbell\, Campbell\, CA\, 95008\, United States
CATEGORIES:Camp
GEO:37.2870553;-121.9448698
X-APPLE-STRUCTURED-LOCATION;VALUE=URI;X-ADDRESS=Orchard City Banquet Hall 1 Campbell Campbell CA 95008 United States;X-APPLE-RADIUS=500;X-TITLE=1 Campbell:geo:-121.9448698,37.2870553
END:VEVENT
BEGIN:VEVENT
DTSTART;TZID=America/Los_Angeles:20260803T090000
DTEND;TZID=America/Los_Angeles:20260807T160000
DTSTAMP:20260425T111016
CREATED:20260123T233347Z
LAST-MODIFIED:20260123T233347Z
UID:10002017-1785747600-1786118400@www.juniorchefstars.com
SUMMARY:Tropical Treats & Island Eats
DESCRIPTION:Tropical Treats – AM \nTake a culinary trip to the tropics! In Tropical Treats\, campers will explore bold\, fruity\, and feel-good flavors through a variety of fun and engaging recipes. From mixing and measuring to baking and decorating\, kids will practice essential kitchen skills while creating tasty treats inspired by sunny destinations. With a focus on flavor\, fun\, and a touch of paradise\, this camp serves up a delicious escape — no suitcase required! \nIsland Eats – PM \nIsland Eats is serving up a flavorful adventure across island kitchens around the globe! From volcanic coasts to cool ocean shores\, campers will explore a variety of regional dishes inspired by unique island cultures\, ingredients\, and traditions. From savory bites to sweet surprises\, we’re mixing up meals that’ll make you say aloha to seconds! With a pinch of adventure\, a dash of creativity\, and plenty of kitchen fun\, Island Eats is a recipe for tasty memories. Just bring your love for island vibes! \nRegister Here
URL:https://www.juniorchefstars.com/event/tropical-treats-island-eats-2/
LOCATION:Orchard City Banquet Hall\, 1 Campbell\, Campbell\, CA\, 95008\, United States
CATEGORIES:Camp
GEO:37.2870553;-121.9448698
X-APPLE-STRUCTURED-LOCATION;VALUE=URI;X-ADDRESS=Orchard City Banquet Hall 1 Campbell Campbell CA 95008 United States;X-APPLE-RADIUS=500;X-TITLE=1 Campbell:geo:-121.9448698,37.2870553
END:VEVENT
END:VCALENDAR